BEGIN:VCALENDAR
VERSION:2.0
PRODID:-//Big Bear Valley Astronomical Society - ECPv6.15.10//NONSGML v1.0//EN
CALSCALE:GREGORIAN
METHOD:PUBLISH
X-ORIGINAL-URL:https://bearvalleyastronomers.org
X-WR-CALDESC:Events for Big Bear Valley Astronomical Society
REFRESH-INTERVAL;VALUE=DURATION:PT1H
X-Robots-Tag:noindex
X-PUBLISHED-TTL:PT1H
BEGIN:VTIMEZONE
TZID:America/Los_Angeles
BEGIN:DAYLIGHT
TZOFFSETFROM:-0800
TZOFFSETTO:-0700
TZNAME:PDT
DTSTART:20250309T100000
END:DAYLIGHT
BEGIN:STANDARD
TZOFFSETFROM:-0700
TZOFFSETTO:-0800
TZNAME:PST
DTSTART:20251102T090000
END:STANDARD
BEGIN:DAYLIGHT
TZOFFSETFROM:-0800
TZOFFSETTO:-0700
TZNAME:PDT
DTSTART:20260308T100000
END:DAYLIGHT
BEGIN:STANDARD
TZOFFSETFROM:-0700
TZOFFSETTO:-0800
TZNAME:PST
DTSTART:20261101T090000
END:STANDARD
BEGIN:DAYLIGHT
TZOFFSETFROM:-0800
TZOFFSETTO:-0700
TZNAME:PDT
DTSTART:20270314T100000
END:DAYLIGHT
BEGIN:STANDARD
TZOFFSETFROM:-0700
TZOFFSETTO:-0800
TZNAME:PST
DTSTART:20271107T090000
END:STANDARD
END:VTIMEZONE
BEGIN:VEVENT
DTSTART;TZID=America/Los_Angeles:20260514T180000
DTEND;TZID=America/Los_Angeles:20260514T184000
DTSTAMP:20260425T082603
CREATED:20260115T023000Z
LAST-MODIFIED:20260412T122200Z
UID:759-1778781600-1778784000@bearvalleyastronomers.org
SUMMARY:BBVAS Club Meeting – Public Invited
DESCRIPTION:The “Big Bear Valley Astronomical Society” is once again returning to in person meetings over dinner at a local establishment. As always the public is welcome to join us\, get to know us and ask questions. \nDue to some members and the public who are unable to make our meetings in person we will be incorporating our Zoom option as well. \nZoom Link:  https://us04web.zoom.us/j/73747635200?pwd=7bp7JGNu4b2Tteao2a0Jnikj0t73Pv.1 \nThe Zoom portion of our meeting will be only be 40 minutes in duration and start at 6pm sharp: \nBring your astronomical aspirations\, your questions and your ideas to our round-table discussions with your fellow hobbyists and neighbors\, the “Big Bear Valley Astronomical Society”
URL:https://bearvalleyastronomers.org/event/bbvas-club-meeting-public-invited-21/
LOCATION:Benny’s Family Restaurant\, 41196 Big Bear Blvd\, Big Bear Lake\, CA\, CA\, 92315\, United States
END:VEVENT
BEGIN:VEVENT
DTSTART;TZID=America/Los_Angeles:20260523T190000
DTEND;TZID=America/Los_Angeles:20260523T210000
DTSTAMP:20260425T082603
CREATED:20260128T152853Z
LAST-MODIFIED:20260128T153053Z
UID:796-1779562800-1779570000@bearvalleyastronomers.org
SUMMARY:Sidewalk Astronomy – In the Village
DESCRIPTION:Volunteers from the Big Bear Valley Astronomical Society (BBVAS) will be setting up telescopes on the sidewalk in front of the Barrel 33 Wine Shop in the village for free telescope views of the moon and planets. \nTourist and locals alike are invited to meet with and talk astronomy with a local amateur astronomer\, view the 1st quarter moon\, the planets and whatever else might be visible on this particular evening through a telescope. \nThe public is encouraged to take advantage of this opportunity and attempt taking a cell phone pic of our cratered moon through a telescopes and see where Neil Armstrong and Buzz Aldrin (Man) first landed on another terrestrial body in the heavens\, always a fun souvenir. \nDisclaimer: All astronomy events are free\, begin at dusk and are weather permitting – Always refer to this site for event status and cancellations.
URL:https://bearvalleyastronomers.org/event/sidewalk-astronomy-in-the-village-18/
LOCATION:Big Bear Lake Village – Sidewalk Astronomy\, 40754 Village Dr\, Big Bear Lake\, California\, 92315
END:VEVENT
END:VCALENDAR