BEGIN:VCALENDAR
VERSION:2.0
PRODID:-//Big Bear Valley Astronomical Society - ECPv6.15.10//NONSGML v1.0//EN
CALSCALE:GREGORIAN
METHOD:PUBLISH
X-WR-CALNAME:Big Bear Valley Astronomical Society
X-ORIGINAL-URL:https://bearvalleyastronomers.org
X-WR-CALDESC:Events for Big Bear Valley Astronomical Society
REFRESH-INTERVAL;VALUE=DURATION:PT1H
X-Robots-Tag:noindex
X-PUBLISHED-TTL:PT1H
BEGIN:VTIMEZONE
TZID:America/Los_Angeles
BEGIN:DAYLIGHT
TZOFFSETFROM:-0800
TZOFFSETTO:-0700
TZNAME:PDT
DTSTART:20250309T100000
END:DAYLIGHT
BEGIN:STANDARD
TZOFFSETFROM:-0700
TZOFFSETTO:-0800
TZNAME:PST
DTSTART:20251102T090000
END:STANDARD
BEGIN:DAYLIGHT
TZOFFSETFROM:-0800
TZOFFSETTO:-0700
TZNAME:PDT
DTSTART:20260308T100000
END:DAYLIGHT
BEGIN:STANDARD
TZOFFSETFROM:-0700
TZOFFSETTO:-0800
TZNAME:PST
DTSTART:20261101T090000
END:STANDARD
BEGIN:DAYLIGHT
TZOFFSETFROM:-0800
TZOFFSETTO:-0700
TZNAME:PDT
DTSTART:20270314T100000
END:DAYLIGHT
BEGIN:STANDARD
TZOFFSETFROM:-0700
TZOFFSETTO:-0800
TZNAME:PST
DTSTART:20271107T090000
END:STANDARD
END:VTIMEZONE
BEGIN:VEVENT
DTSTART;TZID=America/Los_Angeles:20260425T190000
DTEND;TZID=America/Los_Angeles:20260425T210000
DTSTAMP:20260423T055216
CREATED:20260314T151735Z
LAST-MODIFIED:20260314T151735Z
UID:799-1777143600-1777150800@bearvalleyastronomers.org
SUMMARY:Sidewalk Astronomy – In the Village
DESCRIPTION:Volunteers from the Big Bear Valley Astronomical Society (BBVAS) will be setting up telescopes on the sidewalk in front of the Barrel 33 Wine Shop in the village for free telescope views of the moon and planets. \nTourist and locals alike are invited to meet with and talk astronomy with a local amateur astronomer\, view the 1st quarter moon\, the planets and whatever else might be visible on this particular evening through a telescope. \nThe public is encouraged to take advantage of this opportunity and attempt taking a cell phone pic of our cratered moon through a telescopes and see where Neil Armstrong and Buzz Aldrin (Man) first landed on another terrestrial body in the heavens\, always a fun souvenir. \nDisclaimer: All astronomy events are free\, begin at dusk and are weather permitting – Always refer to this site for event status and cancellations.
URL:https://bearvalleyastronomers.org/event/sidewalk-astronomy-in-the-village-19/
LOCATION:Big Bear Lake Village – Sidewalk Astronomy\, 40754 Village Dr\, Big Bear Lake\, California\, 92315
END:VEVENT
BEGIN:VEVENT
DTSTART;TZID=America/Los_Angeles:20260514T180000
DTEND;TZID=America/Los_Angeles:20260514T184000
DTSTAMP:20260423T055216
CREATED:20260115T023000Z
LAST-MODIFIED:20260412T122200Z
UID:759-1778781600-1778784000@bearvalleyastronomers.org
SUMMARY:BBVAS Club Meeting – Public Invited
DESCRIPTION:The “Big Bear Valley Astronomical Society” is once again returning to in person meetings over dinner at a local establishment. As always the public is welcome to join us\, get to know us and ask questions. \nDue to some members and the public who are unable to make our meetings in person we will be incorporating our Zoom option as well. \nZoom Link:  https://us04web.zoom.us/j/73747635200?pwd=7bp7JGNu4b2Tteao2a0Jnikj0t73Pv.1 \nThe Zoom portion of our meeting will be only be 40 minutes in duration and start at 6pm sharp: \nBring your astronomical aspirations\, your questions and your ideas to our round-table discussions with your fellow hobbyists and neighbors\, the “Big Bear Valley Astronomical Society”
URL:https://bearvalleyastronomers.org/event/bbvas-club-meeting-public-invited-21/
LOCATION:Benny’s Family Restaurant\, 41196 Big Bear Blvd\, Big Bear Lake\, CA\, CA\, 92315\, United States
END:VEVENT
BEGIN:VEVENT
DTSTART;TZID=America/Los_Angeles:20260523T190000
DTEND;TZID=America/Los_Angeles:20260523T210000
DTSTAMP:20260423T055216
CREATED:20260128T152853Z
LAST-MODIFIED:20260128T153053Z
UID:796-1779562800-1779570000@bearvalleyastronomers.org
SUMMARY:Sidewalk Astronomy – In the Village
DESCRIPTION:Volunteers from the Big Bear Valley Astronomical Society (BBVAS) will be setting up telescopes on the sidewalk in front of the Barrel 33 Wine Shop in the village for free telescope views of the moon and planets. \nTourist and locals alike are invited to meet with and talk astronomy with a local amateur astronomer\, view the 1st quarter moon\, the planets and whatever else might be visible on this particular evening through a telescope. \nThe public is encouraged to take advantage of this opportunity and attempt taking a cell phone pic of our cratered moon through a telescopes and see where Neil Armstrong and Buzz Aldrin (Man) first landed on another terrestrial body in the heavens\, always a fun souvenir. \nDisclaimer: All astronomy events are free\, begin at dusk and are weather permitting – Always refer to this site for event status and cancellations.
URL:https://bearvalleyastronomers.org/event/sidewalk-astronomy-in-the-village-18/
LOCATION:Big Bear Lake Village – Sidewalk Astronomy\, 40754 Village Dr\, Big Bear Lake\, California\, 92315
END:VEVENT
BEGIN:VEVENT
DTSTART;TZID=America/Los_Angeles:20260611T170000
DTEND;TZID=America/Los_Angeles:20260611T184000
DTSTAMP:20260423T055216
CREATED:20260115T023114Z
LAST-MODIFIED:20260115T023114Z
UID:761-1781197200-1781203200@bearvalleyastronomers.org
SUMMARY:BBVAS Club Meeting – Public Invited
DESCRIPTION:The “Big Bear Valley Astronomical Society” is holding their monthly club meeting on this the 2nd Thursday of the month at 6pm and where the public is welcome to join us\, get to know us and ask questions. \nClub meetings are currently via Zoom\, just 40 minutes in duration and start at 6pm sharp: \nZoom Link:  https://us04web.zoom.us/j/73747635200?pwd=7bp7JGNu4b2Tteao2a0Jnikj0t73Pv.1 \nPlease do not enter more than 2 minutes early as it could start the timer on our meeting early. \nBring your astronomical aspirations\, your questions and your ideas to our round-table discussions with your fellow hobbyists and neighbors\, the “Big Bear Valley Astronomical Society”
URL:https://bearvalleyastronomers.org/event/bbvas-club-meeting-public-invited-22/
LOCATION:Zoom Meeting
END:VEVENT
BEGIN:VEVENT
DTSTART;TZID=America/Los_Angeles:20260620T190000
DTEND;TZID=America/Los_Angeles:20260620T210000
DTSTAMP:20260423T055216
CREATED:20260314T152111Z
LAST-MODIFIED:20260421T142837Z
UID:801-1781982000-1781989200@bearvalleyastronomers.org
SUMMARY:Sidewalk Astronomy – In the Village
DESCRIPTION:Volunteers from the Big Bear Valley Astronomical Society (BBVAS) will be setting up telescopes on the sidewalk in front of the Barrel 33 Wine Shop in the village for free telescope views of the moon and planets. \nTourist and locals alike are invited to meet with and talk astronomy with a local amateur astronomer\, view the 1st quarter moon\, the planets and whatever else might be visible on this particular evening through a telescope. \nThe public is encouraged to take advantage of this opportunity and attempt taking a cell phone pic of our cratered moon through a telescopes and see where Neil Armstrong and Buzz Aldrin (Man) first landed on another terrestrial body in the heavens\, always a fun souvenir. \nDisclaimer: All astronomy events are free\, begin at dusk and are weather permitting – Always refer to this site for event status and cancellations.
URL:https://bearvalleyastronomers.org/event/sidewalk-astronomy-in-the-village-20/
LOCATION:Big Bear Lake Village – Sidewalk Astronomy\, 40754 Village Dr\, Big Bear Lake\, California\, 92315
END:VEVENT
BEGIN:VEVENT
DTSTART;TZID=America/Los_Angeles:20260709T170000
DTEND;TZID=America/Los_Angeles:20260709T184000
DTSTAMP:20260423T055216
CREATED:20260115T023218Z
LAST-MODIFIED:20260115T023218Z
UID:763-1783616400-1783622400@bearvalleyastronomers.org
SUMMARY:BBVAS Club Meeting – Public Invited
DESCRIPTION:The “Big Bear Valley Astronomical Society” is holding their monthly club meeting on this the 2nd Thursday of the month at 6pm and where the public is welcome to join us\, get to know us and ask questions. \nClub meetings are currently via Zoom\, just 40 minutes in duration and start at 6pm sharp: \nZoom Link:  https://us04web.zoom.us/j/73747635200?pwd=7bp7JGNu4b2Tteao2a0Jnikj0t73Pv.1 \nPlease do not enter more than 2 minutes early as it could start the timer on our meeting early. \nBring your astronomical aspirations\, your questions and your ideas to our round-table discussions with your fellow hobbyists and neighbors\, the “Big Bear Valley Astronomical Society”
URL:https://bearvalleyastronomers.org/event/bbvas-club-meeting-public-invited-23/
LOCATION:Zoom Meeting
END:VEVENT
BEGIN:VEVENT
DTSTART;TZID=America/Los_Angeles:20260725T190000
DTEND;TZID=America/Los_Angeles:20260725T210000
DTSTAMP:20260423T055216
CREATED:20260314T152233Z
LAST-MODIFIED:20260421T142812Z
UID:803-1785006000-1785013200@bearvalleyastronomers.org
SUMMARY:Sidewalk Astronomy – In the Village
DESCRIPTION:Volunteers from the Big Bear Valley Astronomical Society (BBVAS) will be setting up telescopes on the sidewalk in front of the Barrel 33 Wine Shop in the village for free telescope views of the moon and planets. \nTourist and locals alike are invited to meet with and talk astronomy with a local amateur astronomer\, view the 1st quarter moon\, the planets and whatever else might be visible on this particular evening through a telescope. \nThe public is encouraged to take advantage of this opportunity and attempt taking a cell phone pic of our cratered moon through a telescopes and see where Neil Armstrong and Buzz Aldrin (Man) first landed on another terrestrial body in the heavens\, always a fun souvenir. \nDisclaimer: All astronomy events are free\, begin at dusk and are weather permitting – Always refer to this site for event status and cancellations.
URL:https://bearvalleyastronomers.org/event/sidewalk-astronomy-in-the-village-21/
LOCATION:Big Bear Lake Village – Sidewalk Astronomy\, 40754 Village Dr\, Big Bear Lake\, California\, 92315
END:VEVENT
BEGIN:VEVENT
DTSTART;TZID=America/Los_Angeles:20260813T180000
DTEND;TZID=America/Los_Angeles:20260813T184000
DTSTAMP:20260423T055216
CREATED:20260115T023454Z
LAST-MODIFIED:20260115T023454Z
UID:765-1786644000-1786646400@bearvalleyastronomers.org
SUMMARY:BBVAS Club Meeting – Public Invited
DESCRIPTION:The “Big Bear Valley Astronomical Society” is holding their monthly club meeting on this the 2nd Thursday of the month at 6pm and where the public is welcome to join us\, get to know us and ask questions. \nClub meetings are currently via Zoom\, just 40 minutes in duration and start at 6pm sharp: \nZoom Link:  https://us04web.zoom.us/j/73747635200?pwd=7bp7JGNu4b2Tteao2a0Jnikj0t73Pv.1 \nPlease do not enter more than 2 minutes early as it could start the timer on our meeting early. \nBring your astronomical aspirations\, your questions and your ideas to our round-table discussions with your fellow hobbyists and neighbors\, the “Big Bear Valley Astronomical Society”
URL:https://bearvalleyastronomers.org/event/bbvas-club-meeting-public-invited-24/
LOCATION:Zoom Meeting
END:VEVENT
BEGIN:VEVENT
DTSTART;TZID=America/Los_Angeles:20260822T190000
DTEND;TZID=America/Los_Angeles:20260822T210000
DTSTAMP:20260423T055216
CREATED:20260314T153729Z
LAST-MODIFIED:20260421T142743Z
UID:809-1787425200-1787432400@bearvalleyastronomers.org
SUMMARY:Sidewalk Astronomy – In the Village
DESCRIPTION:Volunteers from the Big Bear Valley Astronomical Society (BBVAS) will be setting up telescopes on the sidewalk in front of the Barrel 33 Wine Shop in the village for free telescope views of the moon and planets. \nTourist and locals alike are invited to meet with and talk astronomy with a local amateur astronomer\, view the 1st quarter moon\, the planets and whatever else might be visible on this particular evening through a telescope. \nThe public is encouraged to take advantage of this opportunity and attempt taking a cell phone pic of our cratered moon through a telescopes and see where Neil Armstrong and Buzz Aldrin (Man) first landed on another terrestrial body in the heavens\, always a fun souvenir. \nDisclaimer: All astronomy events are free\, begin at dusk and are weather permitting – Always refer to this site for event status and cancellations.
URL:https://bearvalleyastronomers.org/event/sidewalk-astronomy-in-the-village-24/
LOCATION:Big Bear Lake Village – Sidewalk Astronomy\, 40754 Village Dr\, Big Bear Lake\, California\, 92315
END:VEVENT
BEGIN:VEVENT
DTSTART;TZID=America/Los_Angeles:20260910T180000
DTEND;TZID=America/Los_Angeles:20260910T184000
DTSTAMP:20260423T055216
CREATED:20260115T023624Z
LAST-MODIFIED:20260115T023624Z
UID:767-1789063200-1789065600@bearvalleyastronomers.org
SUMMARY:BBVAS Club Meeting – Public Invited
DESCRIPTION:The “Big Bear Valley Astronomical Society” is holding their monthly club meeting on this the 2nd Thursday of the month at 6pm and where the public is welcome to join us\, get to know us and ask questions. \nClub meetings are currently via Zoom\, just 40 minutes in duration and start at 6pm sharp: \nZoom Link:  https://us04web.zoom.us/j/73747635200?pwd=7bp7JGNu4b2Tteao2a0Jnikj0t73Pv.1 \nPlease do not enter more than 2 minutes early as it could start the timer on our meeting early. \nBring your astronomical aspirations\, your questions and your ideas to our round-table discussions with your fellow hobbyists and neighbors\, the “Big Bear Valley Astronomical Society”
URL:https://bearvalleyastronomers.org/event/bbvas-club-meeting-public-invited-25/
LOCATION:Zoom Meeting
END:VEVENT
BEGIN:VEVENT
DTSTART;TZID=America/Los_Angeles:20260919T190000
DTEND;TZID=America/Los_Angeles:20260919T210000
DTSTAMP:20260423T055216
CREATED:20260314T152546Z
LAST-MODIFIED:20260314T152546Z
UID:805-1789844400-1789851600@bearvalleyastronomers.org
SUMMARY:Sidewalk Astronomy – In the Village
DESCRIPTION:Volunteers from the Big Bear Valley Astronomical Society (BBVAS) will be setting up telescopes on the sidewalk in front of the Barrel 33 Wine Shop in the village for free telescope views of the moon and planets. \nTourist and locals alike are invited to meet with and talk astronomy with a local amateur astronomer\, view the 1st quarter moon\, the planets and whatever else might be visible on this particular evening through a telescope. \nThe public is encouraged to take advantage of this opportunity and attempt taking a cell phone pic of our cratered moon through a telescopes and see where Neil Armstrong and Buzz Aldrin (Man) first landed on another terrestrial body in the heavens\, always a fun souvenir. \nDisclaimer: All astronomy events are free\, begin at dusk and are weather permitting – Always refer to this site for event status and cancellations.
URL:https://bearvalleyastronomers.org/event/sidewalk-astronomy-in-the-village-22/
LOCATION:Big Bear Lake Village – Sidewalk Astronomy\, 40754 Village Dr\, Big Bear Lake\, California\, 92315
END:VEVENT
BEGIN:VEVENT
DTSTART;TZID=America/Los_Angeles:20261008T180000
DTEND;TZID=America/Los_Angeles:20261008T184000
DTSTAMP:20260423T055216
CREATED:20260115T023733Z
LAST-MODIFIED:20260115T023733Z
UID:769-1791482400-1791484800@bearvalleyastronomers.org
SUMMARY:BBVAS Club Meeting – Public Invited
DESCRIPTION:The “Big Bear Valley Astronomical Society” is holding their monthly club meeting on this the 2nd Thursday of the month at 6pm and where the public is welcome to join us\, get to know us and ask questions. \nClub meetings are currently via Zoom\, just 40 minutes in duration and start at 6pm sharp: \nZoom Link:  https://us04web.zoom.us/j/73747635200?pwd=7bp7JGNu4b2Tteao2a0Jnikj0t73Pv.1 \nPlease do not enter more than 2 minutes early as it could start the timer on our meeting early. \nBring your astronomical aspirations\, your questions and your ideas to our round-table discussions with your fellow hobbyists and neighbors\, the “Big Bear Valley Astronomical Society”
URL:https://bearvalleyastronomers.org/event/bbvas-club-meeting-public-invited-26/
LOCATION:Zoom Meeting
END:VEVENT
BEGIN:VEVENT
DTSTART;TZID=America/Los_Angeles:20261017T190000
DTEND;TZID=America/Los_Angeles:20261017T210000
DTSTAMP:20260423T055216
CREATED:20260314T153445Z
LAST-MODIFIED:20260421T142712Z
UID:807-1792263600-1792270800@bearvalleyastronomers.org
SUMMARY:Sidewalk Astronomy – In the Village
DESCRIPTION:Volunteers from the Big Bear Valley Astronomical Society (BBVAS) will be setting up telescopes on the sidewalk in front of the Barrel 33 Wine Shop in the village for free telescope views of the moon and planets. \nTourist and locals alike are invited to meet with and talk astronomy with a local amateur astronomer\, view the 1st quarter moon\, the planets and whatever else might be visible on this particular evening through a telescope. \nThe public is encouraged to take advantage of this opportunity and attempt taking a cell phone pic of our cratered moon through a telescopes and see where Neil Armstrong and Buzz Aldrin (Man) first landed on another terrestrial body in the heavens\, always a fun souvenir. \nDisclaimer: All astronomy events are free\, begin at dusk and are weather permitting – Always refer to this site for event status and cancellations.
URL:https://bearvalleyastronomers.org/event/sidewalk-astronomy-in-the-village-23/
LOCATION:Big Bear Lake Village – Sidewalk Astronomy\, 40754 Village Dr\, Big Bear Lake\, California\, 92315
END:VEVENT
BEGIN:VEVENT
DTSTART;TZID=America/Los_Angeles:20261112T180000
DTEND;TZID=America/Los_Angeles:20261112T184000
DTSTAMP:20260423T055216
CREATED:20260115T023832Z
LAST-MODIFIED:20260115T023832Z
UID:771-1794506400-1794508800@bearvalleyastronomers.org
SUMMARY:BBVAS Club Meeting – Public Invited
DESCRIPTION:The “Big Bear Valley Astronomical Society” is holding their monthly club meeting on this the 2nd Thursday of the month at 6pm and where the public is welcome to join us\, get to know us and ask questions. \nClub meetings are currently via Zoom\, just 40 minutes in duration and start at 6pm sharp: \nZoom Link:  https://us04web.zoom.us/j/73747635200?pwd=7bp7JGNu4b2Tteao2a0Jnikj0t73Pv.1 \nPlease do not enter more than 2 minutes early as it could start the timer on our meeting early. \nBring your astronomical aspirations\, your questions and your ideas to our round-table discussions with your fellow hobbyists and neighbors\, the “Big Bear Valley Astronomical Society”
URL:https://bearvalleyastronomers.org/event/bbvas-club-meeting-public-invited-27/
LOCATION:Zoom Meeting
END:VEVENT
BEGIN:VEVENT
DTSTART;TZID=America/Los_Angeles:20261115T170000
DTEND;TZID=America/Los_Angeles:20261115T200000
DTSTAMP:20260423T055216
CREATED:20260314T155025Z
LAST-MODIFIED:20260314T164053Z
UID:811-1794762000-1794772800@bearvalleyastronomers.org
SUMMARY:Sidewalk Astronomy – In the Village
DESCRIPTION:Volunteers from the Big Bear Valley Astronomical Society (BBVAS) will be setting up telescopes on the sidewalk in front of the Barrel 33 Wine Shop in the village for free telescope views of the moon and planets. \nTourist and locals alike are invited to meet with and talk astronomy with a local amateur astronomer\, view the 1st quarter moon\, the planets and whatever else might be visible on this particular evening through a telescope. \nThe public is encouraged to take advantage of this opportunity and attempt taking a cell phone pic of our cratered moon through a telescopes and see where Neil Armstrong and Buzz Aldrin (Man) first landed on another terrestrial body in the heavens\, always a fun souvenir. \nDisclaimer: All astronomy events are free\, begin at dusk and are weather permitting – Always refer to this site for event status and cancellations.
URL:https://bearvalleyastronomers.org/event/sidewalk-astronomy-in-the-village-25/
LOCATION:Big Bear Lake Village – Sidewalk Astronomy\, 40754 Village Dr\, Big Bear Lake\, California\, 92315
END:VEVENT
BEGIN:VEVENT
DTSTART;TZID=America/Los_Angeles:20261210T180000
DTEND;TZID=America/Los_Angeles:20261210T184000
DTSTAMP:20260423T055216
CREATED:20260115T023944Z
LAST-MODIFIED:20260115T023944Z
UID:773-1796925600-1796928000@bearvalleyastronomers.org
SUMMARY:BBVAS Club Meeting – Public Invited
DESCRIPTION:The “Big Bear Valley Astronomical Society” is holding their monthly club meeting on this the 2nd Thursday of the month at 6pm and where the public is welcome to join us\, get to know us and ask questions. \nClub meetings are currently via Zoom\, just 40 minutes in duration and start at 6pm sharp: \nZoom Link:  https://us04web.zoom.us/j/73747635200?pwd=7bp7JGNu4b2Tteao2a0Jnikj0t73Pv.1 \nPlease do not enter more than 2 minutes early as it could start the timer on our meeting early. \nBring your astronomical aspirations\, your questions and your ideas to our round-table discussions with your fellow hobbyists and neighbors\, the “Big Bear Valley Astronomical Society”
URL:https://bearvalleyastronomers.org/event/bbvas-club-meeting-public-invited-28/
LOCATION:Zoom Meeting
END:VEVENT
BEGIN:VEVENT
DTSTART;TZID=America/Los_Angeles:20261219T170000
DTEND;TZID=America/Los_Angeles:20261219T200000
DTSTAMP:20260423T055216
CREATED:20260314T155341Z
LAST-MODIFIED:20260314T164127Z
UID:813-1797699600-1797710400@bearvalleyastronomers.org
SUMMARY:Sidewalk Astronomy – In the Village
DESCRIPTION:Volunteers from the Big Bear Valley Astronomical Society (BBVAS) will be setting up telescopes on the sidewalk in front of the Barrel 33 Wine Shop in the village for free telescope views of the moon and planets. \nTourist and locals alike are invited to meet with and talk astronomy with a local amateur astronomer\, view the 1st quarter moon\, the planets and whatever else might be visible on this particular evening through a telescope. \nThe public is encouraged to take advantage of this opportunity and attempt taking a cell phone pic of our cratered moon through a telescopes and see where Neil Armstrong and Buzz Aldrin (Man) first landed on another terrestrial body in the heavens\, always a fun souvenir. \nDisclaimer: All astronomy events are free\, begin at dusk and are weather permitting – Always refer to this site for event status and cancellations.
URL:https://bearvalleyastronomers.org/event/sidewalk-astronomy-in-the-village-26/
LOCATION:Big Bear Lake Village – Sidewalk Astronomy\, 40754 Village Dr\, Big Bear Lake\, California\, 92315
END:VEVENT
END:VCALENDAR