BEGIN:VCALENDAR
VERSION:2.0
PRODID:-//Big Bear Valley Astronomical Society - ECPv6.15.10//NONSGML v1.0//EN
CALSCALE:GREGORIAN
METHOD:PUBLISH
X-WR-CALNAME:Big Bear Valley Astronomical Society
X-ORIGINAL-URL:https://bearvalleyastronomers.org
X-WR-CALDESC:Events for Big Bear Valley Astronomical Society
REFRESH-INTERVAL;VALUE=DURATION:PT1H
X-Robots-Tag:noindex
X-PUBLISHED-TTL:PT1H
BEGIN:VTIMEZONE
TZID:America/Los_Angeles
BEGIN:DAYLIGHT
TZOFFSETFROM:-0800
TZOFFSETTO:-0700
TZNAME:PDT
DTSTART:20240310T100000
END:DAYLIGHT
BEGIN:STANDARD
TZOFFSETFROM:-0700
TZOFFSETTO:-0800
TZNAME:PST
DTSTART:20241103T090000
END:STANDARD
BEGIN:DAYLIGHT
TZOFFSETFROM:-0800
TZOFFSETTO:-0700
TZNAME:PDT
DTSTART:20250309T100000
END:DAYLIGHT
BEGIN:STANDARD
TZOFFSETFROM:-0700
TZOFFSETTO:-0800
TZNAME:PST
DTSTART:20251102T090000
END:STANDARD
BEGIN:DAYLIGHT
TZOFFSETFROM:-0800
TZOFFSETTO:-0700
TZNAME:PDT
DTSTART:20260308T100000
END:DAYLIGHT
BEGIN:STANDARD
TZOFFSETFROM:-0700
TZOFFSETTO:-0800
TZNAME:PST
DTSTART:20261101T090000
END:STANDARD
END:VTIMEZONE
BEGIN:VEVENT
DTSTART;TZID=America/Los_Angeles:20251108T170000
DTEND;TZID=America/Los_Angeles:20251108T200000
DTSTAMP:20260425T172049
CREATED:20251025T004255Z
LAST-MODIFIED:20251103T030501Z
UID:741-1762621200-1762632000@bearvalleyastronomers.org
SUMMARY:BBVAS - One Sky Week Star Party
DESCRIPTION:In honor of Big Bears continuing movement to make Big Bear a Dark Sky site\, volunteers from the Big Bear Valley Astronomical Society (BBVAS) will be hosting a community star party in Erwin Lake Park at 1140 Hatchery Dr\, Erwin Lake. \nThis is an open and free event where guests will have the opportunity to view various deep sky objects including one of our favorite planet\, Saturn who will be shining high and bright on this moonless and dark night. \nGuests are encouraged to bring their own telescopes and binoculars if you have one (not necessary) and come talk astronomy with your local amateur astronomers. \nDress warmly and remember all astronomical events are held weather permitting. Always refer to this site for last minute changes and cancellations. \nHappy Stargazing everyone. \n 
URL:https://bearvalleyastronomers.org/event/bbvas-one-sky-week-star-party/
LOCATION:Erwin Lake Park\, 1140 Hatchery Dr\, Erwin Lake
END:VEVENT
END:VCALENDAR